BEGIN:VCALENDAR
VERSION:2.0
PRODID:-//wp-events-plugin.com//7.2.3.1//EN
TZID:Europe/London
X-WR-TIMEZONE:Europe/London
BEGIN:VEVENT
UID:51@gmlpn.co.uk
DTSTART;TZID=Europe/London:20251111T100000
DTEND;TZID=Europe/London:20251111T120000
DTSTAMP:20251030T141327Z
URL:https://gmlpn.co.uk/events/youth-employment-exchange-gmlpn/
SUMMARY:Youth Employment Exchange
DESCRIPTION:Join us on 11 Nov for the Youth Employment Exchange\, in partne
 rship with Gateway Qualifications\, as we continue the GM NEET conversatio
 n &amp\; share insights from the GM Youth Census.\n\nFollowing the launch 
 of our Tackling the NEET Challenge Across Greater Manchester paper\, we’
 re keeping the conversation going. Join us at the Youth Employment Exchang
 e as we bring together providers\, partners\, and stakeholders to collabor
 ate on supporting young people across Greater Manchester to progress and s
 ucceed.\n\nThis interactive session will be a chance to share insights\, e
 xplore challenges\, and strengthen partnerships that make a difference to 
 young people’s futures.\n\n🌟 Agenda highlights (full programme to fol
 low):\n\n 	An overview of the GM Youth Census results\, presented by GMCA\
 n 	Opportunities for discussion and collaboration on how we can collective
 ly respond to the needs of young people\n 	Space to connect with colleague
 s from across GM committed to tackling the NEET challenge\n\nTogether\, we
  can build stronger pathways for young people across Greater Manchester.\n
 \nContact us at info@gmlpn.co.uk to book your place.
ATTACH;FMTTYPE=image/jpeg:https://gmlpn.co.uk/wp-content/uploads/2025/10/P
 rofessional-Exchanges-30-x-21-cm-26.png
CATEGORIES:Member Only
END:VEVENT
BEGIN:VTIMEZONE
TZID:Europe/London
X-LIC-LOCATION:Europe/London
BEGIN:STANDARD
DTSTART:20251026T010000
TZOFFSETFROM:+0100
TZOFFSETTO:+0000
TZNAME:GMT
END:STANDARD
END:VTIMEZONE
END:VCALENDAR