BEGIN:VCALENDAR
VERSION:2.0
PRODID:-//wp-events-plugin.com//7.2.3.1//EN
TZID:Europe/London
X-WR-TIMEZONE:Europe/London
BEGIN:VEVENT
UID:31@gmlpn.co.uk
DTSTART;TZID=Europe/London:20250623T130000
DTEND;TZID=Europe/London:20250623T143000
DTSTAMP:20250610T115359Z
URL:https://gmlpn.co.uk/events/understanding-the-25-26-apprenticeship-fund
 ing-rules/
SUMMARY:Understanding the 25/26 Apprenticeship Funding Rules
DESCRIPTION:One of Blueprint's funding experts is pleased to have this oppo
 rtunity to discuss the latest funding guidance on Apprenticeships and how 
 this impacts you.\n\nWith a particular interest in Apprenticeships and the
  learner journey\, Oli will be presenting the latest guidance with his int
 erpretation on what you need to consider and implement to be ready on 1st 
 August 2025.\n\nThis will include:\n\n 	Introduction to DFE updates regard
 ing Apprenticeships funding guidance and wider Skills England Priorities\n
  	Recap of headline apprenticeship funding policy updates: clarifications 
 with rationale. What does this mean?\n 	Dive in to the funding rules and b
 eing compliant ready\n 	What does this mean to you?\n 	Questions and Answe
 rs session\n
ATTACH;FMTTYPE=image/jpeg:https://gmlpn.co.uk/wp-content/uploads/2025/06/S
 creenshot-2025-06-10-125311.png
LOCATION:https://www.eventbrite.co.uk/e/understanding-the-2526-apprenticesh
 ip-funding-rules-tickets-1401636595789?aff=oddtdtcreator
END:VEVENT
BEGIN:VTIMEZONE
TZID:Europe/London
X-LIC-LOCATION:Europe/London
BEGIN:DAYLIGHT
DTSTART:20250330T020000
TZOFFSETFROM:+0000
TZOFFSETTO:+0100
TZNAME:BST
END:DAYLIGHT
END:VTIMEZONE
END:VCALENDAR