BEGIN:VCALENDAR
VERSION:2.0
PRODID:-//wp-events-plugin.com//7.2.3.1//EN
TZID:Europe/London
X-WR-TIMEZONE:Europe/London
BEGIN:VEVENT
UID:65@gmlpn.co.uk
DTSTART;TZID=Europe/London:20260128T130000
DTEND;TZID=Europe/London:20260128T143000
DTSTAMP:20260122T081207Z
URL:https://gmlpn.co.uk/events/the-value-of-gm-maths-ambassadors/
SUMMARY:The Value of GM Maths Ambassadors
DESCRIPTION:\nThe Maths Ambassador Exchange has been running successfully f
 or the past two years - join us on the 28th to find out more and get invol
 ved!\n\n\n\n\nWith maths now firmly positioned within inclusion\, leaders
 hip and staff capability conversations\, including under the current Ofs
 ted framework\, providers are expected to ensure that:\n\n 	learners’ n
 eeds are understood and supported\,\n 	staff across roles have the confide
 nce to respond effectively\,\n 	and responsibility for maths is shared rat
 her than siloed.\n\nThis one-hour webinar\, taking place on Wednesday 28
  January at 10:00am\, is designed to:\n\n 	raise awareness of the Maths Am
 bassador Exchange\,\n 	invite new members to join our growing community\,\
 n 	and encourage whole-organisation engagement\n\nThis session is open to
  all GMLPN members and is relevant to leaders\, teachers\, support staff
 \, quality teams\, curriculum and employer engagement colleagues. There is
  no limit to the number of members within an organisation.\n\nLearning Obj
 ectives\n\nBy the end of the session\, participants will be able to:\n\n 	
 Understand the purpose\, evolution and impact of the Maths Ambassador Exch
 ange.\n 	Recognise how maths fits within Ofsted’s inclusion and leadersh
 ip expectations\, particularly around staff capability and learner support
 .\n 	Identify the organisational benefits of multiple colleagues engaging\
 , supporting consistency\, shared language and confidence across teams.\n 
 	Understand what being a Maths Ambassador involves\, including the flexibl
 e commitment and ways individuals and teams can participate.\n 	Feel confi
 dent to join and encourage colleagues to join\, knowing that curiosity\, p
 ositivity and engagement matter more than subject expertise.\n\n\n\nbook y
 our place: info@gmlpn.co.uk
ATTACH;FMTTYPE=image/jpeg:https://gmlpn.co.uk/wp-content/uploads/2026/01/c
 a52cd7e-2978-f516-53e4-04f47df139ce.png
CATEGORIES:Member Only
END:VEVENT
BEGIN:VTIMEZONE
TZID:Europe/London
X-LIC-LOCATION:Europe/London
BEGIN:STANDARD
DTSTART:20251026T010000
TZOFFSETFROM:+0100
TZOFFSETTO:+0000
TZNAME:GMT
END:STANDARD
END:VTIMEZONE
END:VCALENDAR