BEGIN:VCALENDAR
VERSION:2.0
PRODID:-//wp-events-plugin.com//7.2.3.1//EN
TZID:Europe/London
X-WR-TIMEZONE:Europe/London
BEGIN:VEVENT
UID:60@gmlpn.co.uk
DTSTART;TZID=Europe/London:20260327T100000
DTEND;TZID=Europe/London:20260327T120000
DTSTAMP:20260109T162726Z
URL:https://gmlpn.co.uk/events/powerful-pedagogy-in-practice/
SUMMARY:Powerful Pedagogy in Practice: Turning Evidence into Inclusive Lear
 ning
DESCRIPTION:This 2-hour interactive online session explores what powerful p
 edagogy looks like in practice across post-16 and adult education.\n\nDra
 wing on insights from the DfE’s Powerful Pedagogy: Effective Practice a
 nd the new Ofsted Inspection Toolkit\, it examines how evidence-informed t
 eaching translates into meaningful\, inclusive learning experiences that b
 uild confidence\, curiosity and lasting understanding.\n\nThe content will
  reflect on what makes great teaching powerful\, explore practical strateg
 ies to strengthen professional practice and consider how to make learning
  connect beyond the qualification by adding value\, relevance and real-wor
 ld meaning.\n\nLearning Themes and Objectives\n\n 	Understanding Powerful 
 Pedagogy : Recognise what characterises effective\, evidence-informed teac
 hing in the post-16 sector.\n 	Inclusion in Action : Explore approaches th
 at build belonging\, remove barriers and promote equitable learning.\n 	Ma
 king Learning Meaningful : Consider how to design and deliver learning tha
 t connects to life\, work and the wider world.\n 	Habits of Powerful Teach
 ing : Identify the small\, deliberate practices that make big differences
  to engagement and progress.\n 	Reflection and Growth : Develop the confid
 ence to evaluate and adapt teaching approaches through an evidence-based l
 ens.\n 	From Insight to Impact : Plan how to embed key principles from the
  Ofsted Toolkit into everyday delivery and professional dialogue.\n\nGet i
 n touch to book your place: info@gmlpn.co.uk
ATTACH;FMTTYPE=image/jpeg:https://gmlpn.co.uk/wp-content/uploads/2026/01/E
 ventbrite-9.png
CATEGORIES:Member Only
END:VEVENT
BEGIN:VTIMEZONE
TZID:Europe/London
X-LIC-LOCATION:Europe/London
BEGIN:STANDARD
DTSTART:20251026T010000
TZOFFSETFROM:+0100
TZOFFSETTO:+0000
TZNAME:GMT
END:STANDARD
END:VTIMEZONE
END:VCALENDAR