BEGIN:VCALENDAR
VERSION:2.0
PRODID:-//wp-events-plugin.com//7.2.3.1//EN
TZID:Europe/London
X-WR-TIMEZONE:Europe/London
BEGIN:VEVENT
UID:15@gmlpn.co.uk
DTSTART;TZID=Europe/London:20250129T090000
DTEND;TZID=Europe/London:20250129T110000
DTSTAMP:20250115T131124Z
URL:https://gmlpn.co.uk/events/online-member-kit/
SUMMARY:Online Member KIT
DESCRIPTION:Join us at our Online Member Keep In Touch (KIT) Meeting on the
  29th January 2025!\n\nWe've got lots of exciting things planned for 2025 
 and this KIT will give you opportunity to hear all about them! Expect upda
 tes on:\n\n 	The GM Skills Awards 2025\, sponsored by Bud\n 	Professional 
 Exchanges\n 	Thematic Boards\n 	Ofsted Roundtables\n 	Member Only Website 
 Area\n 	2025 Calendar\n
ATTACH;FMTTYPE=image/jpeg:https://gmlpn.co.uk/wp-content/uploads/2025/01/o
 nline-member.jpeg
CATEGORIES:Member Only
LOCATION:https://www.eventbrite.co.uk/e/online-member-kit-tickets-111041329
 9069?aff=oddtdtcreator
END:VEVENT
BEGIN:VTIMEZONE
TZID:Europe/London
X-LIC-LOCATION:Europe/London
BEGIN:STANDARD
DTSTART:20241027T010000
TZOFFSETFROM:+0100
TZOFFSETTO:+0000
TZNAME:GMT
END:STANDARD
END:VTIMEZONE
END:VCALENDAR