BEGIN:VCALENDAR
VERSION:2.0
PRODID:-//wp-events-plugin.com//7.2.3.1//EN
TZID:Europe/London
X-WR-TIMEZONE:Europe/London
BEGIN:VEVENT
UID:61@gmlpn.co.uk
DTSTART;TZID=Europe/London:20260203T110000
DTEND;TZID=Europe/London:20260203T123000
DTSTAMP:20260113T084927Z
URL:https://gmlpn.co.uk/events/ncfe-bid-writing-workshop/
SUMMARY:NCFE Bid Writing Workshop
DESCRIPTION:\nIntroduction to bid writing with NCFE\n\n\n\n\nJoin us for a 
 session with NCFE’s Bid team and Provider Development team\, exploring h
 ow to navigate procurement routes\, craft high-scoring tender responses\, 
 and position your organisation to government and local authority buyers. T
 his interactive session will draw on NCFE’s bidding experience to explor
 e practical strategies\, share insider tips\, and use interactive activiti
 es to help providers improve their chances of securing places on framework
 s and devolved education contracts.\n\nIn the workshop\, we'll cover:\n\n 
 	Understanding government and local authority procurement models\n 	Naviga
 ting procurement routes\n 	How to craft a winning bid\n 	Positioning your 
 organisation to buyers\n 	Q&amp\;A.\n\nBook your free place with us: info@
 gmlpn.co.uk\n\n\n
ATTACH;FMTTYPE=image/jpeg:https://gmlpn.co.uk/wp-content/uploads/2026/01/N
 CFE-2.png
CATEGORIES:Member Only
END:VEVENT
BEGIN:VTIMEZONE
TZID:Europe/London
X-LIC-LOCATION:Europe/London
BEGIN:STANDARD
DTSTART:20251026T010000
TZOFFSETFROM:+0100
TZOFFSETTO:+0000
TZNAME:GMT
END:STANDARD
END:VTIMEZONE
END:VCALENDAR