BEGIN:VCALENDAR
VERSION:2.0
PRODID:-//wp-events-plugin.com//7.2.3.1//EN
TZID:Europe/London
X-WR-TIMEZONE:Europe/London
BEGIN:VEVENT
UID:22@gmlpn.co.uk
DTSTART;TZID=Europe/London:20250509T093000
DTEND;TZID=Europe/London:20250509T113000
DTSTAMP:20250424T115515Z
URL:https://gmlpn.co.uk/events/mental-health-wellbeing-professional-exchan
 ge/
SUMMARY:Mental Health & Wellbeing Professional Exchange
DESCRIPTION:Get in touch with us at info@gmlpn.co.uk to book your place for
  this GMLPN event!
ATTACH;FMTTYPE=image/jpeg:https://gmlpn.co.uk/wp-content/uploads/2025/04/S
 creenshot-2025-04-24-125440.png
END:VEVENT
BEGIN:VTIMEZONE
TZID:Europe/London
X-LIC-LOCATION:Europe/London
BEGIN:DAYLIGHT
DTSTART:20250330T020000
TZOFFSETFROM:+0000
TZOFFSETTO:+0100
TZNAME:BST
END:DAYLIGHT
END:VTIMEZONE
END:VCALENDAR