BEGIN:VCALENDAR
VERSION:2.0
PRODID:-//wp-events-plugin.com//7.2.3.1//EN
TZID:Europe/London
X-WR-TIMEZONE:Europe/London
BEGIN:VEVENT
UID:45@gmlpn.co.uk
DTSTART;TZID=Europe/London:20251204T100000
DTEND;TZID=Europe/London:20251204T120000
DTSTAMP:20250826T094733Z
URL:https://gmlpn.co.uk/events/mental-health-wellbeing-exchange-december-2
 025/
SUMMARY:Mental Health & Wellbeing Exchange
DESCRIPTION:Agenda for the Mental Health &amp\; Wellbeing Exchange TBC.\n\n
 Contact us at info@gmlpn.co.uk to reserve your space today!
ATTACH;FMTTYPE=image/jpeg:https://gmlpn.co.uk/wp-content/uploads/2025/08/c
 eiag-1.jpeg
CATEGORIES:Member Only
END:VEVENT
BEGIN:VTIMEZONE
TZID:Europe/London
X-LIC-LOCATION:Europe/London
BEGIN:STANDARD
DTSTART:20251026T010000
TZOFFSETFROM:+0100
TZOFFSETTO:+0000
TZNAME:GMT
END:STANDARD
END:VTIMEZONE
END:VCALENDAR