BEGIN:VCALENDAR
VERSION:2.0
PRODID:-//wp-events-plugin.com//7.2.3.1//EN
TZID:Europe/London
X-WR-TIMEZONE:Europe/London
BEGIN:VEVENT
UID:52@gmlpn.co.uk
DTSTART;TZID=Europe/London:20251016T130000
DTEND;TZID=Europe/London:20251016T140000
DTSTAMP:20251013T144016Z
URL:https://gmlpn.co.uk/events/menopause-wellness-the-workplace-gmlpn/
SUMMARY:Menopause\, Wellness & the Workplace
DESCRIPTION:To mark World Menopause Day 2025\, we are delighted to invite y
 ou to join our upcoming GMLPN panel discussion!\n\nThis interactive sessio
 n will bring together a panel of guest speakers to share their personal me
 nopause experiences\, how they balance this alongside their careers\, and 
 examples of how workplaces can create supportive\, inclusive environments.
 \n\nThe discussion will explore:\n\n 	Real stories and reflections from th
 e workplace\n 	Practical advice for managing work and wellbeing\n 	Example
 s of good practice in supporting colleagues\n\nOur Panel:\n\n 	Kate Day\, 
 Director of Operations at DH Associates\n 	Susan Arthur\, Partnership Mana
 ger at Acorn Training\n 	Lisa Agnew\, Employer Skills Advisor at Rochdale 
 Training\n\nInterested in being a panel member? Get in touch! info@gmlpn.c
 o.uk\n\nThis is a valuable opportunity for leaders\, managers\, and collea
 gues across the network to gain insight\, challenge stigma\, and strengthe
 n approaches to workplace wellbeing.\n\nThis is a GMLPN Member only event.
ATTACH;FMTTYPE=image/jpeg:https://gmlpn.co.uk/wp-content/uploads/2025/10/h
 ttps___cdn.evbuc_.com_images_1132636533_106713905707_1_original.jpeg
END:VEVENT
BEGIN:VTIMEZONE
TZID:Europe/London
X-LIC-LOCATION:Europe/London
BEGIN:DAYLIGHT
DTSTART:20250330T020000
TZOFFSETFROM:+0000
TZOFFSETTO:+0100
TZNAME:BST
END:DAYLIGHT
END:VTIMEZONE
END:VCALENDAR