BEGIN:VCALENDAR
VERSION:2.0
PRODID:-//wp-events-plugin.com//7.2.3.1//EN
TZID:Europe/London
X-WR-TIMEZONE:Europe/London
BEGIN:VEVENT
UID:8@gmlpn.co.uk
DTSTART;TZID=Europe/London:20241007T141500
DTEND;TZID=Europe/London:20241007T144500
DTSTAMP:20240903T100349Z
URL:https://gmlpn.co.uk/events/menopause-mindfulness-women-only/
SUMMARY:Menopause Mindfulness - Women Only
DESCRIPTION:We have combined our mindfulness and menopause webinars to crea
 te our Menopause Mindfulness webinars...because there is stress and then t
 here is menopausal stress! This workshop provides tools to help women refr
 ame their approach to menopause and better manage symptoms.\n\nFunded by G
 MLPN\, for GMLPN Members.
ATTACH;FMTTYPE=image/jpeg:https://gmlpn.co.uk/wp-content/uploads/2024/09/m
 enopause-mindfulness.jpeg
CATEGORIES:Member Only
END:VEVENT
BEGIN:VTIMEZONE
TZID:Europe/London
X-LIC-LOCATION:Europe/London
BEGIN:DAYLIGHT
DTSTART:20240331T020000
TZOFFSETFROM:+0000
TZOFFSETTO:+0100
TZNAME:BST
END:DAYLIGHT
END:VTIMEZONE
END:VCALENDAR