BEGIN:VCALENDAR
VERSION:2.0
PRODID:-//wp-events-plugin.com//7.2.3.1//EN
TZID:Europe/London
X-WR-TIMEZONE:Europe/London
BEGIN:VEVENT
UID:7@gmlpn.co.uk
DTSTART;TZID=Europe/London:20241007T130000
DTEND;TZID=Europe/London:20241007T140000
DTSTAMP:20240903T100111Z
URL:https://gmlpn.co.uk/events/menopause-awareness/
SUMMARY:Menopause Awareness
DESCRIPTION:In this webinar we cover the stages\, symptoms\, and management
  of menopause. We can create a supportive environment where women feel com
 fortable\, and discussions are opened up. It normalises workplace discussi
 ons\, educates younger women\, helps partners understand and support loved
  ones\, and guides managers and senior leaders in fostering an inclusive w
 orkplace.\n\nFunded by GMLPN\, for GMLPN Members.
ATTACH;FMTTYPE=image/jpeg:https://gmlpn.co.uk/wp-content/uploads/2024/09/m
 enopause-awareness.jpeg
CATEGORIES:Member Only
END:VEVENT
BEGIN:VTIMEZONE
TZID:Europe/London
X-LIC-LOCATION:Europe/London
BEGIN:DAYLIGHT
DTSTART:20240331T020000
TZOFFSETFROM:+0000
TZOFFSETTO:+0100
TZNAME:BST
END:DAYLIGHT
END:VTIMEZONE
END:VCALENDAR