BEGIN:VCALENDAR
VERSION:2.0
PRODID:-//wp-events-plugin.com//7.2.3.1//EN
TZID:Europe/London
X-WR-TIMEZONE:Europe/London
BEGIN:VEVENT
UID:1@gmlpn.co.uk
DTSTART;TZID=Europe/London:20240913T130000
DTEND;TZID=Europe/London:20240913T180000
DTSTAMP:20240902T162154Z
URL:https://gmlpn.co.uk/events/maths-ambassadors-professional-exchange-sep
 tember-2024/
SUMMARY:Maths Ambassadors - Professional Exchange | September 2024
DESCRIPTION:Join us for this multiply provider support programme event to s
 hare your network\, share your best practice and develop your maths provis
 ion.
CATEGORIES:Multiply Provider Support Programme
LOCATION:GM Chamber of Commerce\, Elliot House\, 151 Deansgate\, Manchester
 \, M3 3WD\, United Kingdom
X-APPLE-STRUCTURED-LOCATION;VALUE=URI;X-ADDRESS=Elliot House\, 151 Deansgat
 e\, Manchester\, M3 3WD\, United Kingdom;X-APPLE-RADIUS=100;X-TITLE=GM Cha
 mber of Commerce:geo:0,0
END:VEVENT
BEGIN:VTIMEZONE
TZID:Europe/London
X-LIC-LOCATION:Europe/London
BEGIN:DAYLIGHT
DTSTART:20240331T020000
TZOFFSETFROM:+0000
TZOFFSETTO:+0100
TZNAME:BST
END:DAYLIGHT
END:VTIMEZONE
END:VCALENDAR