BEGIN:VCALENDAR
VERSION:2.0
PRODID:-//wp-events-plugin.com//7.2.3.1//EN
TZID:Europe/London
X-WR-TIMEZONE:Europe/London
BEGIN:VEVENT
UID:24@gmlpn.co.uk
DTSTART;TZID=Europe/London:20250516T093000
DTEND;TZID=Europe/London:20250516T130000
DTSTAMP:20250424T123744Z
URL:https://gmlpn.co.uk/events/maths-ambassador-exchange/
SUMMARY:Maths Ambassador Exchange
DESCRIPTION:Get in touch with us at info@gmlpn.co.uk to book your place for
  this GMLPN event!
ATTACH;FMTTYPE=image/jpeg:https://gmlpn.co.uk/wp-content/uploads/2025/04/P
 roffesional-X-9.png
LOCATION:Greater Manchester Chamber of Commerce\, Elliott House 151 Deansga
 te\, Manchester\, M3 3WD\, United Kingdom
GEO:53.479262;-2.248716
X-APPLE-STRUCTURED-LOCATION;VALUE=URI;X-ADDRESS=Elliott House 151 Deansgate
 \, Manchester\, M3 3WD\, United Kingdom;X-APPLE-RADIUS=100;X-TITLE=Greater
  Manchester Chamber of Commerce:geo:53.479262,-2.248716
END:VEVENT
BEGIN:VTIMEZONE
TZID:Europe/London
X-LIC-LOCATION:Europe/London
BEGIN:DAYLIGHT
DTSTART:20250330T020000
TZOFFSETFROM:+0000
TZOFFSETTO:+0100
TZNAME:BST
END:DAYLIGHT
END:VTIMEZONE
END:VCALENDAR