BEGIN:VCALENDAR
VERSION:2.0
PRODID:-//wp-events-plugin.com//7.2.3.1//EN
TZID:Europe/London
X-WR-TIMEZONE:Europe/London
BEGIN:VEVENT
UID:46@gmlpn.co.uk
DTSTART;TZID=Europe/London:20251010T120000
DTEND;TZID=Europe/London:20251010T130000
DTSTAMP:20251008T082008Z
URL:https://gmlpn.co.uk/events/lessons-learnt-from-functional-skills-maths
 /
SUMMARY:Lessons Learnt from Functional Skills Maths
DESCRIPTION:Join Pearson’s Chris Briggs and David Lee for an insightful s
 ession exploring the key challenges learners faced in Functional Skills Ma
 ths at Levels 1 and 2 during the 2024/25 academic year.\n\n 	 Common area
 s of difficulty across learner cohorts\n 	 Practical strategies to suppor
 t learner success\n 	 Resources and tools to improve outcomes\n 	 Q&amp\
 ;A opportunity\n\nContact us at info@gmlpn.co.uk to reserve your space tod
 ay!
ATTACH;FMTTYPE=image/jpeg:https://gmlpn.co.uk/wp-content/uploads/2025/08/P
 SP-Event-Graphics-1.png
CATEGORIES:Member Only
END:VEVENT
BEGIN:VTIMEZONE
TZID:Europe/London
X-LIC-LOCATION:Europe/London
BEGIN:DAYLIGHT
DTSTART:20250330T020000
TZOFFSETFROM:+0000
TZOFFSETTO:+0100
TZNAME:BST
END:DAYLIGHT
END:VTIMEZONE
END:VCALENDAR