BEGIN:VCALENDAR
VERSION:2.0
PRODID:-//wp-events-plugin.com//7.2.3.1//EN
TZID:Europe/London
X-WR-TIMEZONE:Europe/London
BEGIN:VEVENT
UID:32@gmlpn.co.uk
DTSTART;TZID=Europe/London:20250709T091500
DTEND;TZID=Europe/London:20250709T100000
DTSTAMP:20250625T085237Z
URL:https://gmlpn.co.uk/events/how-itps-can-engage-in-world-skills-uk-gmlp
 n/
SUMMARY:How ITP's Can Engage In WorldSkills UK
DESCRIPTION:WorldSkills UK Competitions empower individuals at every stage 
 of their development\, promoting both personal and professional growth whi
 le equipping them for successful careers. These competitions inspire learn
 ers and educators alike\, offering valuable CPD opportunities to strengthe
 n teaching practices and deepen subject knowledge.\n\nBy focusing on the d
 evelopment of technical expertise\, employability\, and personal skills al
 igned with international benchmarks\, WorldSkills UK sets a global standar
 d of excellence. Competitors bring this knowledge and experience back to t
 heir workplaces\, driving innovation\, improving systems\, and contributin
 g to the success of both national and global economies.\n\nThis webinar wi
 ll cover:\n\n 	Benefits for Apprentices\n 	Benefits for Educators\n 	Benef
 its for Employers\n
ATTACH;FMTTYPE=image/jpeg:https://gmlpn.co.uk/wp-content/uploads/2025/06/P
 SP-Events-twitter-36.png
LOCATION:https://www.eventbrite.co.uk/e/how-itps-can-engage-in-world-skills
 -uk-tickets-1427485490529?aff=oddtdtcreator
END:VEVENT
BEGIN:VTIMEZONE
TZID:Europe/London
X-LIC-LOCATION:Europe/London
BEGIN:DAYLIGHT
DTSTART:20250330T020000
TZOFFSETFROM:+0000
TZOFFSETTO:+0100
TZNAME:BST
END:DAYLIGHT
END:VTIMEZONE
END:VCALENDAR