BEGIN:VCALENDAR
VERSION:2.0
PRODID:-//wp-events-plugin.com//7.2.3.1//EN
TZID:Europe/London
X-WR-TIMEZONE:Europe/London
BEGIN:VEVENT
UID:14@gmlpn.co.uk
DTSTART;TZID=Europe/London:20250117T110000
DTEND;TZID=Europe/London:20250117T120000
DTSTAMP:20250115T141115Z
URL:https://gmlpn.co.uk/events/how-fast-can-add-value-to-your-english-math
 s-delivery/
SUMMARY:How FAST can add value to your English & Maths delivery
DESCRIPTION:\n\n\n\n\n\n\n\n\nNCFE &amp\; GMLPN have joined up to provide t
 he members access to an end-to-end solution for Functional Skills that inc
 ludes initial assessment\, teaching and learning resources and registratio
 ns - all at a great saving no matter how big or small your provision is.\n
 \nThis session will:\n\n 	Introduce FAST - Functional Assessment &amp\; Sk
 ills Together\n 	Showcase the solutions you will get access to\n 	Explain 
 the value it will add\n 	Detail how you can get signed up\n\n\n\n\n\n\n\n\
 n\n\n\n\n\n
ATTACH;FMTTYPE=image/jpeg:https://gmlpn.co.uk/wp-content/uploads/2025/01/e
 nglish-maths.jpeg
CATEGORIES:Member Only
LOCATION:https://www.eventbrite.co.uk/e/how-fast-can-add-value-to-your-engl
 ish-maths-delivery-tickets-1115557746249?aff=oddtdtcreator
END:VEVENT
BEGIN:VTIMEZONE
TZID:Europe/London
X-LIC-LOCATION:Europe/London
BEGIN:STANDARD
DTSTART:20241027T010000
TZOFFSETFROM:+0100
TZOFFSETTO:+0000
TZNAME:GMT
END:STANDARD
END:VTIMEZONE
END:VCALENDAR