BEGIN:VCALENDAR
VERSION:2.0
PRODID:-//wp-events-plugin.com//7.2.3.1//EN
TZID:Europe/London
X-WR-TIMEZONE:Europe/London
BEGIN:VEVENT
UID:70@gmlpn.co.uk
DTSTART;TZID=Europe/London:20260505T100000
DTEND;TZID=Europe/London:20260505T120000
DTSTAMP:20260316T163113Z
URL:https://gmlpn.co.uk/events/gmlpn-youth-employment-exchange/
SUMMARY:GMLPN Youth Employment Exchange
DESCRIPTION:\n\nThe Youth Employment Exchange\, in partnership with Gateway
  Qualifications\, will continue the GM NEET conversation.\n\nIn partnershi
 p with Gateway Qualifications\n\n\n\nChaired by Andy Turner (GMLPN Board M
 ember)\n\nWe’ll be joined by GMCA + others.\n\n 	The agenda will include
 :\n 	GMCA Updates\n 	Engaging Employers\n 	Discussion on government e.g. j
 obs guarantee\, foundation apprenticeships etc.\n\nGet in touch to book yo
 ur place: info@gmlpn.co.uk
ATTACH;FMTTYPE=image/jpeg:https://gmlpn.co.uk/wp-content/uploads/2026/03/y
 outh-5.png
CATEGORIES:Member Only
END:VEVENT
BEGIN:VTIMEZONE
TZID:Europe/London
X-LIC-LOCATION:Europe/London
BEGIN:DAYLIGHT
DTSTART:20260329T020000
TZOFFSETFROM:+0000
TZOFFSETTO:+0100
TZNAME:BST
END:DAYLIGHT
END:VTIMEZONE
END:VCALENDAR