BEGIN:VCALENDAR
VERSION:2.0
PRODID:-//wp-events-plugin.com//7.2.3.1//EN
TZID:Europe/London
X-WR-TIMEZONE:Europe/London
BEGIN:VEVENT
UID:56@gmlpn.co.uk
DTSTART;TZID=Europe/London:20260126T100000
DTEND;TZID=Europe/London:20260126T120000
DTSTAMP:20251218T173323Z
URL:https://gmlpn.co.uk/events/gmlpn-send-exchange/
SUMMARY:GMLPN SEND Exchange
DESCRIPTION:Agenda: We’ll be joined by Mari Saeki from the Neuro inclusiv
 e Organisations Network (NiON) and the GM Autism Consortium to tell us mor
 e about the work going on across GM and highlight some of the resources cr
 eated. We will also be joined by Anthony Turner\, from Manchester City Cou
 ncil who will be giving an overview of the upcoming SEND Cohort in Manches
 ter.\n\nContact us at info@gmlpn.co.uk to book your place.
ATTACH;FMTTYPE=image/jpeg:https://gmlpn.co.uk/wp-content/uploads/2025/12/h
 ttps___cdn.evbuc_.com_images_1121228533_106713905707_1_original.jpg
CATEGORIES:Member Only
END:VEVENT
BEGIN:VTIMEZONE
TZID:Europe/London
X-LIC-LOCATION:Europe/London
BEGIN:STANDARD
DTSTART:20251026T010000
TZOFFSETFROM:+0100
TZOFFSETTO:+0000
TZNAME:GMT
END:STANDARD
END:VTIMEZONE
END:VCALENDAR