BEGIN:VCALENDAR
VERSION:2.0
PRODID:-//wp-events-plugin.com//7.2.3.1//EN
TZID:Europe/London
X-WR-TIMEZONE:Europe/London
BEGIN:VEVENT
UID:55@gmlpn.co.uk
DTSTART;TZID=Europe/London:20260129T100000
DTEND;TZID=Europe/London:20260129T120000
DTSTAMP:20251218T142340Z
URL:https://gmlpn.co.uk/events/gmlpn-safeguarding-exchange/
SUMMARY:GMLPN Safeguarding Exchange
DESCRIPTION:The Chair for the Safeguarding Exchange is Anthony Turner\, Pos
 t-16 Lead at Manchester City Council.\n\nAgenda- TBC.\n\nContact us at inf
 o@gmlpn.co.uk to book your place.
ATTACH;FMTTYPE=image/jpeg:https://gmlpn.co.uk/wp-content/uploads/2025/10/P
 rofessional-Exchanges-30-x-21-cm-23.png
CATEGORIES:Member Only
END:VEVENT
BEGIN:VTIMEZONE
TZID:Europe/London
X-LIC-LOCATION:Europe/London
BEGIN:STANDARD
DTSTART:20251026T010000
TZOFFSETFROM:+0100
TZOFFSETTO:+0000
TZNAME:GMT
END:STANDARD
END:VTIMEZONE
END:VCALENDAR