BEGIN:VCALENDAR
VERSION:2.0
PRODID:-//wp-events-plugin.com//7.2.3.1//EN
TZID:Europe/London
X-WR-TIMEZONE:Europe/London
BEGIN:VEVENT
UID:40@gmlpn.co.uk
DTSTART;TZID=Europe/London:20250926T100000
DTEND;TZID=Europe/London:20250926T120000
DTSTAMP:20250826T093219Z
URL:https://gmlpn.co.uk/events/gmlpn-safeguarding-exchange-september-2025/
SUMMARY:Safeguarding Exchange
DESCRIPTION:Agenda TBC.\n\nContact us at info@gmlpn.co.uk to reserve your s
 pace today!
ATTACH;FMTTYPE=image/jpeg:https://gmlpn.co.uk/wp-content/uploads/2025/08/s
 afeguarding-x.jpeg
CATEGORIES:Member Only
END:VEVENT
BEGIN:VTIMEZONE
TZID:Europe/London
X-LIC-LOCATION:Europe/London
BEGIN:DAYLIGHT
DTSTART:20250330T020000
TZOFFSETFROM:+0000
TZOFFSETTO:+0100
TZNAME:BST
END:DAYLIGHT
END:VTIMEZONE
END:VCALENDAR