BEGIN:VCALENDAR
VERSION:2.0
PRODID:-//wp-events-plugin.com//7.2.3.1//EN
TZID:Europe/London
X-WR-TIMEZONE:Europe/London
BEGIN:VEVENT
UID:9@gmlpn.co.uk
DTSTART;TZID=Europe/London:20241024T130000
DTEND;TZID=Europe/London:20241024T140000
DTSTAMP:20240903T143640Z
URL:https://gmlpn.co.uk/events/gmlpn-quality-professional-exchange/
SUMMARY:GMLPN Quality Professional Exchange
DESCRIPTION:GMLPN are relaunching our Professional Exchanges! Join us at th
 e first Quality Professional Exchange to help shape the direction of the g
 roup going forward.\n\nMore information to follow.
ATTACH;FMTTYPE=image/jpeg:https://gmlpn.co.uk/wp-content/uploads/2024/09/q
 uality-professional-exchange.jpeg
CATEGORIES:Member Only
END:VEVENT
BEGIN:VTIMEZONE
TZID:Europe/London
X-LIC-LOCATION:Europe/London
BEGIN:DAYLIGHT
DTSTART:20240331T020000
TZOFFSETFROM:+0000
TZOFFSETTO:+0100
TZNAME:BST
END:DAYLIGHT
END:VTIMEZONE
END:VCALENDAR