BEGIN:VCALENDAR
VERSION:2.0
PRODID:-//wp-events-plugin.com//7.2.3.1//EN
TZID:Europe/London
X-WR-TIMEZONE:Europe/London
BEGIN:VEVENT
UID:33@gmlpn.co.uk
DTSTART;TZID=Europe/London:20250707T130000
DTEND;TZID=Europe/London:20250707T143000
DTSTAMP:20250625T085952Z
URL:https://gmlpn.co.uk/events/gmlpn-quality-exchange-apprenticeship-fundi
 ng/
SUMMARY:GMLPN Quality Exchange
DESCRIPTION:Apprenticeship Funding Rules 25/26. If you are a member and wou
 ld like to join\, contact us at info@gmlpn.co.uk !
ATTACH;FMTTYPE=image/jpeg:https://gmlpn.co.uk/wp-content/uploads/2025/06/S
 creenshot-2025-06-25-095914.png
END:VEVENT
BEGIN:VTIMEZONE
TZID:Europe/London
X-LIC-LOCATION:Europe/London
BEGIN:DAYLIGHT
DTSTART:20250330T020000
TZOFFSETFROM:+0000
TZOFFSETTO:+0100
TZNAME:BST
END:DAYLIGHT
END:VTIMEZONE
END:VCALENDAR