BEGIN:VCALENDAR
VERSION:2.0
PRODID:-//wp-events-plugin.com//7.2.3.1//EN
TZID:Europe/London
X-WR-TIMEZONE:Europe/London
BEGIN:VEVENT
UID:53@gmlpn.co.uk
DTSTART;TZID=Europe/London:20260115T100000
DTEND;TZID=Europe/London:20260115T120000
DTSTAMP:20251218T142426Z
URL:https://gmlpn.co.uk/events/gmlpn-quality-exchange-2/
SUMMARY:GMLPN Quality Exchange
DESCRIPTION:\nAgenda: The session will focus on the changes to Ofsted Inspe
 ction\, a space for providers to come together and share best practice and
  challenges in working towards the new framework.\n\nContact us at info@gm
 lpn.co.uk to book your place.\n\n
ATTACH;FMTTYPE=image/jpeg:https://gmlpn.co.uk/wp-content/uploads/2025/10/P
 rofessional-Exchanges-30-x-21-cm-24.png
CATEGORIES:Member Only
END:VEVENT
BEGIN:VTIMEZONE
TZID:Europe/London
X-LIC-LOCATION:Europe/London
BEGIN:STANDARD
DTSTART:20251026T010000
TZOFFSETFROM:+0100
TZOFFSETTO:+0000
TZNAME:GMT
END:STANDARD
END:VTIMEZONE
END:VCALENDAR