BEGIN:VCALENDAR
VERSION:2.0
PRODID:-//wp-events-plugin.com//7.2.3.1//EN
TZID:Europe/London
X-WR-TIMEZONE:Europe/London
BEGIN:VEVENT
UID:54@gmlpn.co.uk
DTSTART;TZID=Europe/London:20260121T100000
DTEND;TZID=Europe/London:20260121T120000
DTSTAMP:20260108T113924Z
URL:https://gmlpn.co.uk/events/gmlpn-online-member-kit/
SUMMARY:GMLPN Online Member KIT
DESCRIPTION:Agenda includes:\n\n 	GMLPN Updates\n 	Edge Foundation | Appren
 ticeships Work Campaign &amp\; Wider Work\n 	Subrahmaniam Krishnan-Harihar
 a | Director of Business Policy and Research\n 	Christian Notley MBE | Wor
 ldSkills UK\n 	GM Colleges | Apprenticeship Literacy Innovation Programme\
 n 	Sharon Weetman | Head of Youth Employment &amp\; Apprenticeships | GMCA
 \n 	Christine Edwards | GMLPN Maths Ambassador programme\n\nContact us at 
 info@gmlpn.co.uk to book your place.
ATTACH;FMTTYPE=image/jpeg:https://gmlpn.co.uk/wp-content/uploads/2025/12/h
 ttps___cdn.evbuc_.com_images_1171871367_106713905707_1_original.jpg
CATEGORIES:Member Only
END:VEVENT
BEGIN:VTIMEZONE
TZID:Europe/London
X-LIC-LOCATION:Europe/London
BEGIN:STANDARD
DTSTART:20251026T010000
TZOFFSETFROM:+0100
TZOFFSETTO:+0000
TZNAME:GMT
END:STANDARD
END:VTIMEZONE
END:VCALENDAR