BEGIN:VCALENDAR
VERSION:2.0
PRODID:-//wp-events-plugin.com//7.2.3.1//EN
TZID:Europe/London
X-WR-TIMEZONE:Europe/London
BEGIN:VEVENT
UID:5@gmlpn.co.uk
DTSTART;TZID=Europe/London:20240918T090000
DTEND;TZID=Europe/London:20240918T150000
DTSTAMP:20240902T181703Z
URL:https://gmlpn.co.uk/events/gmlpn-network-meeting/
SUMMARY:GMLPN Network Meeting
DESCRIPTION:Sponsorship Opportunities Available:\n\n 	Headline Sponsor\n 	E
 xhibitor\n
ATTACH;FMTTYPE=image/jpeg:https://gmlpn.co.uk/wp-content/uploads/2021/11/N
 WM-Event-Logo.png
CATEGORIES:GMLPN Network Meeting
LOCATION:Bolton Wanderers Football Club\, Toughsheet Community Stadium\, Bu
 rnden Way\, Bolton\, Lancashire\, BL6 6JW\, United Kingdom
GEO:53.580597;-2.535633
X-APPLE-STRUCTURED-LOCATION;VALUE=URI;X-ADDRESS=Toughsheet Community Stadiu
 m\, Burnden Way\, Bolton\, Lancashire\, BL6 6JW\, United Kingdom;X-APPLE-R
 ADIUS=100;X-TITLE=Bolton Wanderers Football Club:geo:53.580597,-2.535633
END:VEVENT
BEGIN:VTIMEZONE
TZID:Europe/London
X-LIC-LOCATION:Europe/London
BEGIN:DAYLIGHT
DTSTART:20240331T020000
TZOFFSETFROM:+0000
TZOFFSETTO:+0100
TZNAME:BST
END:DAYLIGHT
END:VTIMEZONE
END:VCALENDAR