BEGIN:VCALENDAR
VERSION:2.0
PRODID:-//wp-events-plugin.com//7.2.3.1//EN
TZID:Europe/London
X-WR-TIMEZONE:Europe/London
BEGIN:VEVENT
UID:50@gmlpn.co.uk
DTSTART;TZID=Europe/London:20251126T090000
DTEND;TZID=Europe/London:20251126T150000
DTSTAMP:20251106T150531Z
URL:https://gmlpn.co.uk/events/gmlpn-network-meeting-nov-2025/
SUMMARY:GMLPN Network Meeting
DESCRIPTION:Join us on the 26th of November 2025\, for our next GMLPN Netwo
 rk Meeting\, at the Toughsheet Community Stadium!\n\nAgenda includes:\n\n 
 	Gemma Marsh\, Deputy CEO\, Skills England\n 	GMLPN AGM and Updates\n 	Goo
 d Employment Charter\n 	Positive Planet\n 	More to be confirmed!\n\nContac
 t us at info@gmlpn.co.uk to register today!
ATTACH;FMTTYPE=image/jpeg:https://gmlpn.co.uk/wp-content/uploads/2025/09/N
 etwork-Meeting.png
LOCATION:Toughsheet Community Stadium\, Burnden Way\, Bolton\, BL6 6JW\, Un
 ited Kingdom
GEO:53.580352;-2.538453
X-APPLE-STRUCTURED-LOCATION;VALUE=URI;X-ADDRESS=Burnden Way\, Bolton\, BL6 
 6JW\, United Kingdom;X-APPLE-RADIUS=100;X-TITLE=Toughsheet Community Stadi
 um:geo:53.580352,-2.538453
END:VEVENT
BEGIN:VTIMEZONE
TZID:Europe/London
X-LIC-LOCATION:Europe/London
BEGIN:STANDARD
DTSTART:20251026T010000
TZOFFSETFROM:+0100
TZOFFSETTO:+0000
TZNAME:GMT
END:STANDARD
END:VTIMEZONE
END:VCALENDAR