BEGIN:VCALENDAR
VERSION:2.0
PRODID:-//wp-events-plugin.com//7.2.3.1//EN
TZID:Europe/London
X-WR-TIMEZONE:Europe/London
BEGIN:VEVENT
UID:30@gmlpn.co.uk
DTSTART;TZID=Europe/London:20250618T090000
DTEND;TZID=Europe/London:20250618T140000
DTSTAMP:20250610T093048Z
URL:https://gmlpn.co.uk/events/gmlpn-network-meeting-3/
SUMMARY:GMLPN Network Meeting
DESCRIPTION:Join us on the 18th June 2025\, for our next GMLPN Network Meet
 ing\, at the Toughsheet Community Stadium!\n\nAgenda includes:\n\n 	\n\n 	
 Sharon Weetman | Principal - Education\, Skills &amp\; Work\, GMCA\n 	Clai
 re Little | NW Prevent Coordinator\, Department for Education\n 	Panel Dis
 cussion - Recent changes to Apprenticeships and Spending review announceme
 nts\n\n 	Kathyrn Aylett\, Training and Development Manager - GM Fire &amp\
 ; Rescue\n 	Shabir Siddiq\, Director for Quality\, Compliance &amp\; Safeg
 uarding – Alphabet Training\n 	Adam Williams\, Director of Apprenticeshi
 ps - Hopwood Hall College\n 	Robert Herriot\, Head of Sales &amp\; Marketi
 ng – NQual\n 	Chaired by Tracey Wood\, Chief Commercial Officer – Traf
 ford and Stockport College Group\n\n\n 	Preparing for potential Ofsted Cha
 nges: priorities for providers – Maureen Deary\n 	Higher Health | Theo C
 ernow-Cooke\n 	60 second member spotlights\n 	GMLPN Updates\n\n\n
ATTACH;FMTTYPE=image/jpeg:https://gmlpn.co.uk/wp-content/uploads/2025/06/E
 ventbrite-Headings-3.png
LOCATION:https://www.eventbrite.co.uk/e/gmlpn-network-meeting-tickets-13484
 67024169?aff=oddtdtcreator
END:VEVENT
BEGIN:VTIMEZONE
TZID:Europe/London
X-LIC-LOCATION:Europe/London
BEGIN:DAYLIGHT
DTSTART:20250330T020000
TZOFFSETFROM:+0000
TZOFFSETTO:+0100
TZNAME:BST
END:DAYLIGHT
END:VTIMEZONE
END:VCALENDAR