BEGIN:VCALENDAR
VERSION:2.0
PRODID:-//wp-events-plugin.com//7.2.3.1//EN
TZID:Europe/London
X-WR-TIMEZONE:Europe/London
BEGIN:VEVENT
UID:72@gmlpn.co.uk
DTSTART;TZID=Europe/London:20260513T090000
DTEND;TZID=Europe/London:20260513T160000
DTSTAMP:20260323T121036Z
URL:https://gmlpn.co.uk/events/gmlpn-network-meeting-25th-birthday-celebra
 tion/
SUMMARY:GMLPN Network Meeting & 25th Birthday Celebration!
DESCRIPTION:Join us on the 13th May! Please note: each member can request a
  maximum of 2 tickets for the Network Meeting &amp\; 25th Birthday Celebra
 tion.\n\nTo book: info@gmlpn.co.uk
ATTACH;FMTTYPE=image/jpeg:https://gmlpn.co.uk/wp-content/uploads/2026/03/N
 etwork-Meeting-3.png
CATEGORIES:GMLPN Network Meeting
LOCATION:voco Manchester - City Centre\, 59 Portland St\, Manchester\, M1 3
 HP\, United Kingdom
GEO:53.477477;-2.239094
X-APPLE-STRUCTURED-LOCATION;VALUE=URI;X-ADDRESS=59 Portland St\, Manchester
 \, M1 3HP\, United Kingdom;X-APPLE-RADIUS=100;X-TITLE=voco Manchester - Ci
 ty Centre:geo:53.477477,-2.239094
END:VEVENT
BEGIN:VTIMEZONE
TZID:Europe/London
X-LIC-LOCATION:Europe/London
BEGIN:DAYLIGHT
DTSTART:20260329T020000
TZOFFSETFROM:+0000
TZOFFSETTO:+0100
TZNAME:BST
END:DAYLIGHT
END:VTIMEZONE
END:VCALENDAR