BEGIN:VCALENDAR
VERSION:2.0
PRODID:-//wp-events-plugin.com//7.2.3.1//EN
TZID:Europe/London
X-WR-TIMEZONE:Europe/London
BEGIN:VEVENT
UID:18@gmlpn.co.uk
DTSTART;TZID=Europe/London:20250326T090000
DTEND;TZID=Europe/London:20250326T150000
DTSTAMP:20250115T142127Z
URL:https://gmlpn.co.uk/events/gmlpn-network-meeting-2/
SUMMARY:GMLPN Network Meeting
DESCRIPTION:Join us for our March Network Meeting!
ATTACH;FMTTYPE=image/jpeg:https://gmlpn.co.uk/wp-content/uploads/2025/01/n
 etwork-meeting.jpeg
CATEGORIES:Member Only
LOCATION:Salford Community Stadium\, 1 Stadium Way\, Eccles\, Salford\, M30
  7EY\, Manchester\, United Kingdom
GEO:53.468896;-2.376341
X-APPLE-STRUCTURED-LOCATION;VALUE=URI;X-ADDRESS=1 Stadium Way\, Eccles\, Sa
 lford\, M30 7EY\, Manchester\, United Kingdom;X-APPLE-RADIUS=100;X-TITLE=S
 alford Community Stadium:geo:53.468896,-2.376341
END:VEVENT
BEGIN:VTIMEZONE
TZID:Europe/London
X-LIC-LOCATION:Europe/London
BEGIN:STANDARD
DTSTART:20241027T010000
TZOFFSETFROM:+0100
TZOFFSETTO:+0000
TZNAME:GMT
END:STANDARD
END:VTIMEZONE
END:VCALENDAR