BEGIN:VCALENDAR
VERSION:2.0
PRODID:-//wp-events-plugin.com//7.2.3.1//EN
TZID:Europe/London
X-WR-TIMEZONE:Europe/London
BEGIN:VEVENT
UID:13@gmlpn.co.uk
DTSTART;TZID=Europe/London:20241107T130000
DTEND;TZID=Europe/London:20241107T140000
DTSTAMP:20240903T141715Z
URL:https://gmlpn.co.uk/events/gmlpn-mental-health-wellbeing-professional-
 exchange/
SUMMARY:GMLPN Mental Health & Wellbeing Professional Exchange
DESCRIPTION:\n\n\n\n\n\n\n\n\nGMLPN are relaunching our Professional Exchan
 ges! Join us for a Mental Health &amp\; Wellbeing Exchange to help shape t
 he direction of the group going forward.\n\nMore information to follow.\n\
 n\n\n\n\n\n\n\n\n\n\n\n\n
ATTACH;FMTTYPE=image/jpeg:https://gmlpn.co.uk/wp-content/uploads/2024/09/m
 ental-health-and-wellbeing.jpeg
CATEGORIES:Member Only
END:VEVENT
BEGIN:VTIMEZONE
TZID:Europe/London
X-LIC-LOCATION:Europe/London
BEGIN:STANDARD
DTSTART:20241027T010000
TZOFFSETFROM:+0100
TZOFFSETTO:+0000
TZNAME:GMT
END:STANDARD
END:VTIMEZONE
END:VCALENDAR