BEGIN:VCALENDAR
VERSION:2.0
PRODID:-//wp-events-plugin.com//7.2.3.1//EN
TZID:Europe/London
X-WR-TIMEZONE:Europe/London
BEGIN:VEVENT
UID:71@gmlpn.co.uk
DTSTART;TZID=Europe/London:20260506T100000
DTEND;TZID=Europe/London:20260506T120000
DTSTAMP:20260417T073718Z
URL:https://gmlpn.co.uk/events/gmlpn-mental-health-wellbeing-exchange/
SUMMARY:GMLPN Mental Health & Wellbeing Exchange
DESCRIPTION:Join us for our upcoming Mental Health &amp\; Wellbeing Exchang
 e\, bringing together providers to share insight\, experience and practica
 l learning around supporting wellbeing across the sector.\n\n\nAgenda high
 lights include:\n\nDamar Training Spotlight\nNicola Fletcher shares Damar
 ’s mental health and wellbeing journey.\n\nInclusion &amp\; Wellbeing in
  Practice\nKate Day (DH Associates)\, Chair of the Mental Health &amp\; We
 llbeing Exchange\, leads a discussion on embedding inclusive wellbeing app
 roaches across provision.\n\nInspection Insight: 1st 2 Achieve\nA reflecti
 ve overview of a recent inspection with a focus on:\n\n 	Inclusion and wel
 lbeing\n 	The experience from a senior leadership and staff wellbeing pers
 pective\n\nAlongside these inputs\, there will be space for questions\, pe
 er reflection and open discussion\, creating a supportive environment to s
 hare challenges\, ideas and best practice.\n\n&nbsp\;\n\n\nTo book : info@
 gmlpn.co.uk
ATTACH;FMTTYPE=image/jpeg:https://gmlpn.co.uk/wp-content/uploads/2026/02/M
 ental-Health-Wellbeing.png
CATEGORIES:Member Only
END:VEVENT
BEGIN:VTIMEZONE
TZID:Europe/London
X-LIC-LOCATION:Europe/London
BEGIN:DAYLIGHT
DTSTART:20260329T020000
TZOFFSETFROM:+0000
TZOFFSETTO:+0100
TZNAME:BST
END:DAYLIGHT
END:VTIMEZONE
END:VCALENDAR