BEGIN:VCALENDAR
VERSION:2.0
PRODID:-//wp-events-plugin.com//7.2.3.1//EN
TZID:Europe/London
X-WR-TIMEZONE:Europe/London
BEGIN:VEVENT
UID:73@gmlpn.co.uk
DTSTART;TZID=Europe/London:20260515T100000
DTEND;TZID=Europe/London:20260515T120000
DTSTAMP:20260415T112303Z
URL:https://gmlpn.co.uk/events/gmlpn-ceiag-exchange/
SUMMARY:GMLPN CEIAG Exchange
DESCRIPTION:Join us at our upcoming CEIAG Exchange!\n\n\nAgenda include:\n\
 n 	CEC updates\n 	NowSkills – Recent Ofsted Inspection Experience: CEIAG
  and Personal Development Focus\n\nAlongside these contributions\, there w
 ill be opportunities for Q&amp\;A\, reflections\, and discussion on how 
 best to support providers with CEIAG across Greater Manchester.\n\n&nbsp\;
 \n\n\nTo book: info@gmlpn.co.uk
ATTACH;FMTTYPE=image/jpeg:https://gmlpn.co.uk/wp-content/uploads/2025/08/P
 rofessional-Exchanges-30-x-21-cm-17-1.png
CATEGORIES:Member Only
END:VEVENT
BEGIN:VTIMEZONE
TZID:Europe/London
X-LIC-LOCATION:Europe/London
BEGIN:DAYLIGHT
DTSTART:20260329T020000
TZOFFSETFROM:+0000
TZOFFSETTO:+0100
TZNAME:BST
END:DAYLIGHT
END:VTIMEZONE
END:VCALENDAR