BEGIN:VCALENDAR
VERSION:2.0
PRODID:-//wp-events-plugin.com//7.2.3.1//EN
TZID:Europe/London
X-WR-TIMEZONE:Europe/London
BEGIN:VEVENT
UID:59@gmlpn.co.uk
DTSTART;TZID=Europe/London:20260213T100000
DTEND;TZID=Europe/London:20260213T120000
DTSTAMP:20260107T082614Z
URL:https://gmlpn.co.uk/events/gmlpn-ceiag-exchange-2/
SUMMARY:GMLPN CEIAG Exchange
DESCRIPTION:Join us at our upcoming CEIAG Exchange!\n\nThe Exchange will fe
 ature updates and insights:\n\nAgenda TBC\n\nAlongside these contributions
 \, there will be opportunities for Q&amp\;A\, reflections\, and discussion
  on how best to support providers with CEIAG across Greater Manchester.\n\
 nGet in touch to book your place: info@gmlpn.co.uk
ATTACH;FMTTYPE=image/jpeg:https://gmlpn.co.uk/wp-content/uploads/2026/01/C
 EIAG-1.png
CATEGORIES:Member Only
END:VEVENT
BEGIN:VTIMEZONE
TZID:Europe/London
X-LIC-LOCATION:Europe/London
BEGIN:STANDARD
DTSTART:20251026T010000
TZOFFSETFROM:+0100
TZOFFSETTO:+0000
TZNAME:GMT
END:STANDARD
END:VTIMEZONE
END:VCALENDAR