BEGIN:VCALENDAR
VERSION:2.0
PRODID:-//wp-events-plugin.com//7.2.3.1//EN
TZID:Europe/London
X-WR-TIMEZONE:Europe/London
BEGIN:VEVENT
UID:69@gmlpn.co.uk
DTSTART;TZID=Europe/London:20260331T103000
DTEND;TZID=Europe/London:20260331T120000
DTSTAMP:20260311T131015Z
URL:https://gmlpn.co.uk/events/gmlpn-bidding-webinar-part-2/
SUMMARY:GMLPN: Bidding Webinar part 2
DESCRIPTION:Join us for part 2 of the Bidding Webinar\, delivered by NCFE.\
 n\n\nAgenda TBC\n\n
ATTACH;FMTTYPE=image/jpeg:https://gmlpn.co.uk/wp-content/uploads/2026/03/N
 CFE-4.png
CATEGORIES:Member Only
END:VEVENT
BEGIN:VTIMEZONE
TZID:Europe/London
X-LIC-LOCATION:Europe/London
BEGIN:DAYLIGHT
DTSTART:20260329T020000
TZOFFSETFROM:+0000
TZOFFSETTO:+0100
TZNAME:BST
END:DAYLIGHT
END:VTIMEZONE
END:VCALENDAR