BEGIN:VCALENDAR
VERSION:2.0
PRODID:-//wp-events-plugin.com//7.2.3.1//EN
TZID:Europe/London
X-WR-TIMEZONE:Europe/London
BEGIN:VEVENT
UID:27@gmlpn.co.uk
DTSTART;TZID=Europe/London:20250703T060000
DTEND;TZID=Europe/London:20250703T235900
DTSTAMP:20250610T102415Z
URL:https://gmlpn.co.uk/events/gm-skills-awards-2025-book-on/
SUMMARY:GM Skills Awards 2025
DESCRIPTION:\n\n\nThe GM Skills Awards is brought to you through a partners
 hip between the Greater Manchester Learning Provider Network (GMLPN) and
  the Greater Manchester Chamber of Commerce (GMCC).\n\nSponsored by Bud
 \, this prestigious event brings together industry leaders\, educators\, e
 mployers\, learners and apprentices to celebrate outstanding achievements 
 and contributions to the FE and Skills Sector.\n\nGM Skills Awards Venue: 
 The Monastery of St Francis &amp\; Gorton Trust continues to invest venue 
 hire proceeds back into our charitable foundation\, with a firm mission to
  serve and support the wider community.\n\n&nbsp\;\n\n\n\nGet in touch wit
 h us at info@gmlpn.co.uk to book your ticket/s for this GM SKills Awards 2
 025!
ATTACH;FMTTYPE=image/jpeg:https://gmlpn.co.uk/wp-content/uploads/2025/04/B
 rush-Square-initial-fashion-logo-1.png
LOCATION:The Monastery Manchester\, 89 Gorton Lane\, Manchester\, M12 5WF\,
  United Kingdom
GEO:53.468419;-2.187239
X-APPLE-STRUCTURED-LOCATION;VALUE=URI;X-ADDRESS=89 Gorton Lane\, Manchester
 \, M12 5WF\, United Kingdom;X-APPLE-RADIUS=100;X-TITLE=The Monastery Manch
 ester:geo:53.468419,-2.187239
END:VEVENT
BEGIN:VTIMEZONE
TZID:Europe/London
X-LIC-LOCATION:Europe/London
BEGIN:DAYLIGHT
DTSTART:20250330T020000
TZOFFSETFROM:+0000
TZOFFSETTO:+0100
TZNAME:BST
END:DAYLIGHT
END:VTIMEZONE
END:VCALENDAR