BEGIN:VCALENDAR
VERSION:2.0
PRODID:-//wp-events-plugin.com//7.2.3.1//EN
TZID:Europe/London
X-WR-TIMEZONE:Europe/London
BEGIN:VEVENT
UID:17@gmlpn.co.uk
DTSTART;TZID=Europe/London:20250227T093000
DTEND;TZID=Europe/London:20250227T160000
DTSTAMP:20250115T131649Z
URL:https://gmlpn.co.uk/events/gm-maths-forum-innovation-opportunity-in-po
 st-16-maths/
SUMMARY:GM Maths Forum - Innovation & Opportunity in Post 16 Maths
DESCRIPTION:Agenda TBC
ATTACH;FMTTYPE=image/jpeg:https://gmlpn.co.uk/wp-content/uploads/2025/01/m
 aths-forum.jpeg
CATEGORIES:Member Only
LOCATION:GMCC\, Elliot House\, 151 Deansgate\, Manchester\, M3 3WD\, United
  Kingdom
GEO:53.479262;-2.248716
X-APPLE-STRUCTURED-LOCATION;VALUE=URI;X-ADDRESS=Elliot House\, 151 Deansgat
 e\, Manchester\, M3 3WD\, United Kingdom;X-APPLE-RADIUS=100;X-TITLE=GMCC:g
 eo:53.479262,-2.248716
END:VEVENT
BEGIN:VTIMEZONE
TZID:Europe/London
X-LIC-LOCATION:Europe/London
BEGIN:STANDARD
DTSTART:20241027T010000
TZOFFSETFROM:+0100
TZOFFSETTO:+0000
TZNAME:GMT
END:STANDARD
END:VTIMEZONE
END:VCALENDAR