BEGIN:VCALENDAR
VERSION:2.0
PRODID:-//wp-events-plugin.com//7.2.3.1//EN
TZID:Europe/London
X-WR-TIMEZONE:Europe/London
BEGIN:VEVENT
UID:38@gmlpn.co.uk
DTSTART;TZID=Europe/London:20250912T093000
DTEND;TZID=Europe/London:20250912T130000
DTSTAMP:20250826T104341Z
URL:https://gmlpn.co.uk/events/gm-maths-ambassador-exchange-gmlpn/
SUMMARY:GM Maths Ambassador Exchange
DESCRIPTION:Location to be announced – details will be shared soon.\n\nCo
 ntact us at info@gmlpn.co.uk to reserve your place today!
ATTACH;FMTTYPE=image/jpeg:https://gmlpn.co.uk/wp-content/uploads/2025/08/P
 roffesional-X-5.png
CATEGORIES:Multiply Provider Support Programme
LOCATION:To be Confirmed\, TBC\, TBC\, United Kingdom
GEO:55.378051;-3.435973
X-APPLE-STRUCTURED-LOCATION;VALUE=URI;X-ADDRESS=TBC\, TBC\, United Kingdom;
 X-APPLE-RADIUS=100;X-TITLE=To be Confirmed:geo:55.378051,-3.435973
END:VEVENT
BEGIN:VTIMEZONE
TZID:Europe/London
X-LIC-LOCATION:Europe/London
BEGIN:DAYLIGHT
DTSTART:20250330T020000
TZOFFSETFROM:+0000
TZOFFSETTO:+0100
TZNAME:BST
END:DAYLIGHT
END:VTIMEZONE
END:VCALENDAR