BEGIN:VCALENDAR
VERSION:2.0
PRODID:-//wp-events-plugin.com//7.2.3.1//EN
TZID:Europe/London
X-WR-TIMEZONE:Europe/London
BEGIN:VEVENT
UID:68@gmlpn.co.uk
DTSTART;TZID=Europe/London:20260223T110000
DTEND;TZID=Europe/London:20260223T120000
DTSTAMP:20260212T130904Z
URL:https://gmlpn.co.uk/events/free-support-to-apply-for-the-dfe-funded-tu
 ring-scheme/
SUMMARY:Free Support to Apply for the DfE Funded Turing Scheme
DESCRIPTION:\nThis event is aimed at FE Providers (ITPs\, Colleges etc.) as
  the ones that would apply for the funding.\n\n\n\n\nGMLPN are working in 
 partnership with Further Afield to deliver a free webinar about the DfE-fu
 nded Turing Scheme\, exploring its benefits\, application process\, and op
 portunities for learners and FE providers.\n\nThrough our partners at Fur
 ther Afield and Gotoco\, you can access free support to apply for Df
 E Turing Scheme funding and give your learners access to life-changing g
 lobal work placements in the academic year 2026-27.\n\nThis is a fantasti
 c opportunity to boost learners’ employability\, and at no cost to you o
 r the learner. We know it sounds too good to be true - but we can vouch th
 at it’s real!\n\nFunding covers everything - from passports\, to flights
 \, insurance\, vaccines and of course supports the cost of delivering a pl
 acement.\n\nFurther Afield's offer ensures funding covers 100% of the cost
 s of global placements - extending to cover all meals\, accommodation\, a
 nd in-country activities.\n\n&nbsp\;\n\n\nGet in touch to book: info@gmlpn
 .co.uk\n\n
ATTACH;FMTTYPE=image/jpeg:https://gmlpn.co.uk/wp-content/uploads/2026/02/h
 ttps___cdn.evbuc_.com_images_963158333_106713905707_1_original.jpeg
CATEGORIES:Member Only
END:VEVENT
BEGIN:VTIMEZONE
TZID:Europe/London
X-LIC-LOCATION:Europe/London
BEGIN:STANDARD
DTSTART:20251026T010000
TZOFFSETFROM:+0100
TZOFFSETTO:+0000
TZNAME:GMT
END:STANDARD
END:VTIMEZONE
END:VCALENDAR