BEGIN:VCALENDAR
VERSION:2.0
PRODID:-//wp-events-plugin.com//7.2.3.1//EN
TZID:Europe/London
X-WR-TIMEZONE:Europe/London
BEGIN:VEVENT
UID:29@gmlpn.co.uk
DTSTART;TZID=Europe/London:20250710T093000
DTEND;TZID=Europe/London:20250710T110000
DTSTAMP:20250610T092952Z
URL:https://gmlpn.co.uk/events/follow-up-session-from-our-recent-event/
SUMMARY:Follow up session from our recent 'Tackling the NEET Challenge acro
 ss GM event'
DESCRIPTION:Join us for a collaborative event dedicated to addressing the N
 EET Challenge across Greater Manchester!
ATTACH;FMTTYPE=image/jpeg:https://gmlpn.co.uk/wp-content/uploads/2025/06/S
 creenshot-2025-06-10-102208.png
LOCATION:https://www.eventbrite.co.uk/e/tackling-the-neet-challenge-across-
 gm-follow-up-session-tickets-1371584970569?aff=oddtdtcreator
END:VEVENT
BEGIN:VTIMEZONE
TZID:Europe/London
X-LIC-LOCATION:Europe/London
BEGIN:DAYLIGHT
DTSTART:20250330T020000
TZOFFSETFROM:+0000
TZOFFSETTO:+0100
TZNAME:BST
END:DAYLIGHT
END:VTIMEZONE
END:VCALENDAR