BEGIN:VCALENDAR
VERSION:2.0
PRODID:-//wp-events-plugin.com//7.2.3.1//EN
TZID:Europe/London
X-WR-TIMEZONE:Europe/London
BEGIN:VEVENT
UID:49@gmlpn.co.uk
DTSTART;TZID=Europe/London:20260422T090000
DTEND;TZID=Europe/London:20260422T120000
DTSTAMP:20260121T091420Z
URL:https://gmlpn.co.uk/events/emerging-findings-and-lessons-learned-from-
 the-first-inspections-using-the-new-framework-and-methodology/
SUMMARY:Emerging Findings and Lessons Learned from the First Inspections
DESCRIPTION:As the new inspection framework and methodology begin to take s
 hape in practice\, valuable insights are emerging from the first round of 
 inspections. This session will explore the key findings so far\, highlight
 ing what has changed in inspection approaches and what this means for prov
 iders. You’ll gain a clear understanding of areas inspectors are emphasi
 sing\, the types of evidence being requested\, and the lessons learned tha
 t can strengthen your own preparation. The session will equip you with pra
 ctical actions to ensure staff\, learners\, and employers are fully ready 
 to engage with confidence.\n\nThe session will cover:\n\n 	Key findings fr
 om the first inspections conducted against the new framework\n 	Key differ
 ences in inspection methodology providers should be aware of\n 	How to ens
 ure you have the evidence inspectors may request\n 	Areas of emphasises wi
 th the new framework and methodology\n 	Developing an action plan to ensur
 e staff\, learners and employers are prepared for inspection.\n\nWho shoul
 d attend?\nThis session is designed for colleagues in further education an
 d skills who need to understand and act on the emerging findings from insp
 ections under the new framework. It will be particularly valuable for:\n\n
  	Senior leaders and managers responsible for quality\, compliance\, and s
 trategic oversight.\n 	Lead nominees and deputy (‘mini’) nominees prep
 aring to navigate inspection processes.\n 	Quality managers and curriculum
  leads who need to adapt practice based on new inspection emphasis.\n 	Sta
 ff development and employer engagement leads supporting staff\, learners\,
  and employers to contribute effectively to inspections.\n\nIf you are res
 ponsible for inspection preparation\, evidencing impact\, or shaping your 
 organisation’s response to Ofsted’s new approach\, this session will g
 ive you the latest insights and practical next steps.\n\nContact us at inf
 o@gmlpn.co.uk to book on today!
ATTACH;FMTTYPE=image/jpeg:https://gmlpn.co.uk/wp-content/uploads/2025/09/E
 ventbrite-12.png
CATEGORIES:Member Only
END:VEVENT
BEGIN:VTIMEZONE
TZID:Europe/London
X-LIC-LOCATION:Europe/London
BEGIN:DAYLIGHT
DTSTART:20260329T020000
TZOFFSETFROM:+0000
TZOFFSETTO:+0100
TZNAME:BST
END:DAYLIGHT
END:VTIMEZONE
END:VCALENDAR