BEGIN:VCALENDAR
VERSION:2.0
PRODID:-//wp-events-plugin.com//7.2.3.1//EN
TZID:Europe/London
X-WR-TIMEZONE:Europe/London
BEGIN:VEVENT
UID:2@gmlpn.co.uk
DTSTART;TZID=Europe/London:20240925T133000
DTEND;TZID=Europe/London:20240925T153000
DTSTAMP:20240903T142744Z
URL:https://gmlpn.co.uk/events/embedding-maths-in-everyday-learning/
SUMMARY:Embedding Maths in Everyday Learning
DESCRIPTION:This interactive session will review innovative ways to embed m
 aths throughout the learner journey.  The session will cover mapping out 
 key touch points that will integrate maths into everyday contexts\, making
  learning\, relevant and engaging
ATTACH;FMTTYPE=image/jpeg:https://gmlpn.co.uk/wp-content/uploads/2024/09/i
 mages_79.jpeg
CATEGORIES:Multiply Provider Support Programme
END:VEVENT
BEGIN:VTIMEZONE
TZID:Europe/London
X-LIC-LOCATION:Europe/London
BEGIN:DAYLIGHT
DTSTART:20240331T020000
TZOFFSETFROM:+0000
TZOFFSETTO:+0100
TZNAME:BST
END:DAYLIGHT
END:VTIMEZONE
END:VCALENDAR