BEGIN:VCALENDAR
VERSION:2.0
PRODID:-//wp-events-plugin.com//7.2.3.1//EN
TZID:Europe/London
X-WR-TIMEZONE:Europe/London
BEGIN:VEVENT
UID:41@gmlpn.co.uk
DTSTART;TZID=Europe/London:20251002T090000
DTEND;TZID=Europe/London:20251002T110000
DTSTAMP:20250926T104942Z
URL:https://gmlpn.co.uk/events/ceiag-exchange-gmlpn/
SUMMARY:CEIAG Exchange
DESCRIPTION:Join us at our upcoming CEIAG Exchange!\n\nThe Exchange will fe
 ature updates and insights from:\n\n 	Careers &amp\; Enterprise Company 
 – Alison Sadler (EDT Consultant)\n 	GMCA – Jayne Tramontana (Head of C
 areers Strategy) on the All-Aged Careers Strategy\n 	Manchester City Counc
 il – Maura O’Brien (Work &amp\; Skills Officer) on the 19+ Careers Fra
 mework\n 	DH Associates – Good Practice Spotlight\n\nAlongside these con
 tributions\, there will be opportunities for Q&amp\;A\, reflections\, and 
 discussion on how best to support providers with CEIAG across Greater Manc
 hester.
ATTACH;FMTTYPE=image/jpeg:https://gmlpn.co.uk/wp-content/uploads/2025/08/c
 eiag.jpeg
CATEGORIES:Member Only
END:VEVENT
BEGIN:VTIMEZONE
TZID:Europe/London
X-LIC-LOCATION:Europe/London
BEGIN:DAYLIGHT
DTSTART:20250330T020000
TZOFFSETFROM:+0000
TZOFFSETTO:+0100
TZNAME:BST
END:DAYLIGHT
END:VTIMEZONE
END:VCALENDAR